BEGIN:VCALENDAR
VERSION:2.0
PRODID:-//Citizens Safety Academy - ECPv6.15.20//NONSGML v1.0//EN
CALSCALE:GREGORIAN
METHOD:PUBLISH
X-WR-CALNAME:Citizens Safety Academy
X-ORIGINAL-URL:https://citizenssafety.com
X-WR-CALDESC:Events for Citizens Safety Academy
REFRESH-INTERVAL;VALUE=DURATION:PT1H
X-Robots-Tag:noindex
X-PUBLISHED-TTL:PT1H
BEGIN:VTIMEZONE
TZID:America/Chicago
BEGIN:DAYLIGHT
TZOFFSETFROM:-0600
TZOFFSETTO:-0500
TZNAME:CDT
DTSTART:20170312T080000
END:DAYLIGHT
BEGIN:STANDARD
TZOFFSETFROM:-0500
TZOFFSETTO:-0600
TZNAME:CST
DTSTART:20171105T070000
END:STANDARD
BEGIN:DAYLIGHT
TZOFFSETFROM:-0600
TZOFFSETTO:-0500
TZNAME:CDT
DTSTART:20180311T080000
END:DAYLIGHT
BEGIN:STANDARD
TZOFFSETFROM:-0500
TZOFFSETTO:-0600
TZNAME:CST
DTSTART:20181104T070000
END:STANDARD
BEGIN:DAYLIGHT
TZOFFSETFROM:-0600
TZOFFSETTO:-0500
TZNAME:CDT
DTSTART:20190310T080000
END:DAYLIGHT
BEGIN:STANDARD
TZOFFSETFROM:-0500
TZOFFSETTO:-0600
TZNAME:CST
DTSTART:20191103T070000
END:STANDARD
END:VTIMEZONE
BEGIN:VEVENT
DTSTART;TZID=America/Chicago:20180526T120000
DTEND;TZID=America/Chicago:20180526T160000
DTSTAMP:20260419T155537
CREATED:20190126T115929Z
LAST-MODIFIED:20220922T181237Z
UID:2068-1527336000-1527350400@citizenssafety.com
SUMMARY:Hemorrhage Arrest Course (HAC)
DESCRIPTION:[vc_row][vc_column][vc_column_text]Citizens Safety Academy is pleased to host the one and only Dr. Sherman House of the Civilian Defender. Dr. House will be teaching an extended (eight-hour) version of his flagship course on hemorrhage control. What will you do if someone suffers a severe injury and first responders haven’t arrived yet? This course gives you the tools to manage precisely that scenario.[/vc_column_text][vc_tta_accordion style=”modern” shape=”square” color=”mulled-wine” c_icon=”chevron” active_section=”9″ no_fill=”true” collapsible_all=”true”][vc_tta_section title=”Course Details” tab_id=”section-course-details”][vc_column_text]Dr. Sherman House is a long-time student of personal defense and a top-quality trainer in his own right. He also has invaluable knowledge and skills that far too many defensive trainers lack: medical expertise. As a practicing dentist and experienced medical provider\, Dr. House is the perfect person to teach the basics of civilian trauma care. That’s why we are so excited to host him as a guest instructor. Below is the course description Dr. House provided: \nThis 4-hour is designed to prepare the CIVILIAN DEFENDER to deal with the inevitable eventuality of stopping life-threatening bleeding. With the ever increasing frequency of worldwide terror events\, active killers\, workplace violence incidents and motor vehicle collisions\, knowing the proper techniques\, tactics and procedures to keep you\, your family\, friends\, parishioners\, students and fellow countrymen alive until a higher level of medical care can reach you is ESSENTIAL! This course will prepare you for unexpected (but not unplanned for) emergencies! \nFor more information on what to expect in this course\, please see Dr. House’s blog\, where he provides a detailed write-up (click here to view).[/vc_column_text][/vc_tta_section][vc_tta_section title=”Gear List” tab_id=”hac-gear-list”][vc_column_text]Students in Dr. House’s Hemorrhage Arrest Course should bring the following items to class (click the links to purchase online if necessary\, or contact us for more information on equipment needed for the course): \n\nYour current medical kit or bag (if you have one)\nPen and paper for note taking\nClothing you don’t care about (that can be cut up…trousers and a t-shirt)\nSOF-T tourniquet\nH&H Primed Gauze\nH&H Compression Bandage\nHyfin Chest Seal\n\n[/vc_column_text][/vc_tta_section][vc_tta_section title=”Register Now” tab_id=”section-register-now”][vc_btn title=”CLICK HERE TO REGISTER ON EVENTBRITE” style=”classic” shape=”square” color=”success” size=”lg” align=”center” css_animation=”zoomIn” button_block=”true” link=”url:https%3A%2F%2Fwww.eventbrite.com%2Fe%2Fcivilian-defender-hemorrhage-arrest-course-hac-tickets-43613966548%3Faff%3Des2|title:Click%20here%20to%20register%20on%20Eventbrite.|target:%20_blank|”][/vc_tta_section][/vc_tta_accordion][/vc_column][/vc_row]
URL:https://citizenssafety.com/event/hemorrhage-arrest-may-2018/
LOCATION:Citizens Safety Academy\, 752 East Northfield Boulevard\, Murfreesboro\, TN\, 37130\, United States
CATEGORIES:Community Events,Guest Instructor,Introductory Classes,Medical Classes,Non-Shooting Classes
ATTACH;FMTTYPE=image/jpeg:https://citizenssafety.com/wp-content/uploads/2018/05/House_HAC-Class.jpg
ORGANIZER;CN="Citizens Safety Academy":MAILTO:Info@CitizensSafety.com
END:VEVENT
END:VCALENDAR